BEGIN:VCALENDAR
CALSCALE:GREGORIAN
BEGIN:VEVENT
DTSTAMP:20231024T170657Z
DTSTART:20210902T153000Z
DTEND:20210902T193000Z
SUMMARY:Conférence de presse publique Initiative 99%
UID:4606cff5-7ca3-4226-b4a9-aead6427cecd
LOCATION:Tibits\, Lausanne
X-ALT-DESC;FMTTYPE=text/html:
END:VEVENT
END:VCALENDAR
