BEGIN:VCALENDAR
CALSCALE:GREGORIAN
BEGIN:VEVENT
DTSTAMP:20231024T170658Z
DTSTART:20210305T180000Z
DTEND:20210305T220000Z
SUMMARY:AG de mars
UID:4c43de2d-53f1-42e7-83e5-8b8c52a64ba0
LOCATION:
DESCRIPTION:Merci pour votre inscription à notre événement. Vos billets sont joints à cet e-mail. N'oubliez pas de les amener avec vous.\n\nNous nous réjouissons de vous y voir !\n\nVoici les détails de l'événement :\n\nAG de mars\n5 mars 2021 à 19:00\nAG mars
X-ALT-DESC;FMTTYPE=text/html:Merci pour votre inscription à notre événement. Vos billets sont joints à cet e-mail. N'oubliez pas de les amener avec vous.\n\nNous nous réjouissons de vous y voir !\n\nVoici les détails de l'événement :<br>AG de mars\n5 mars 2021 à 19:00\nAG mars
END:VEVENT
END:VCALENDAR
