BEGIN:VCALENDAR
CALSCALE:GREGORIAN
BEGIN:VEVENT
DTSTAMP:20231024T170648Z
DTSTART:20200807T170000Z
DTEND:20200807T210000Z
SUMMARY:AG d'août
UID:51dbb0b0-4ed7-48d7-8f4a-7d51d9ada050
LOCATION:Place Chauderon 5\, 1003 Lausanne\, Suisse
X-ALT-DESC;FMTTYPE=text/html:
END:VEVENT
END:VCALENDAR
