BEGIN:VCALENDAR
CALSCALE:GREGORIAN
BEGIN:VEVENT
DTSTAMP:20231024T170642Z
DTSTART:20210903T170000Z
DTEND:20210903T210000Z
SUMMARY:Assemblée générale de la rentrée
UID:53cb8b41-090c-4e31-8d78-cf7a454ed483
LOCATION:Pl. Chauderon 5\, 1003 Lausanne\, Suisse
DESCRIPTION:Merci pour votre inscription à notre événement. Vos billets sont joints à cet e-mail. N'oubliez pas de les amener avec vous.\n\nNous nous réjouissons de vous y voir !\n\nVoici les détails de l'événement :\n\nAssemblée générale de la rentrée\n3 septembre 2021 à 19:00\nLausanne\, Pl. Chauderon 5\, 1003 Lausanne\, Suisse
X-ALT-DESC;FMTTYPE=text/html:Merci pour votre inscription à notre événement. Vos billets sont joints à cet e-mail. N'oubliez pas de les amener avec vous.\n\nNous nous réjouissons de vous y voir !\n\nVoici les détails de l'événement :<br>Assemblée générale de la rentrée\n3 septembre 2021 à 19:00\nLausanne\, Pl. Chauderon 5\, 1003 Lausanne\, Suisse
END:VEVENT
END:VCALENDAR
