BEGIN:VCALENDAR
CALSCALE:GREGORIAN
BEGIN:VEVENT
DTSTAMP:20231024T170635Z
DTSTART:20201024T080000Z
DTEND:20201024T130000Z
SUMMARY:Workshop FéminismeS
UID:5eac931b-aff2-43d4-8890-bfd03bd03fde
LOCATION:Rue Gambetta\, 1815 Clarens\, Suisse
X-ALT-DESC;FMTTYPE=text/html:
END:VEVENT
END:VCALENDAR
