BEGIN:VCALENDAR
CALSCALE:GREGORIAN
BEGIN:VEVENT
DTSTAMP:20231024T170701Z
DTSTART:20211001T170000Z
DTEND:20211001T210000Z
SUMMARY:Assemblée générale
UID:602aa831-58df-48aa-abf2-f6d7e6bcd616
LOCATION:Rue de Crissier 6\, 1020 Renens\, Suisse
DESCRIPTION:Merci pour votre inscription à notre événement. Vos billets sont joints à cet e-mail. N'oubliez pas de les amener avec vous.\n\nNous nous réjouissons de vous y voir !\n\nVoici les détails de l'événement :\n\nAssemblée générale\n1 octobre 2021 à 19:00\nMaison du Peuple Renens\, salle Muraria\, Rue de Crissier 6\, 1020 Renens\, Suisse
X-ALT-DESC;FMTTYPE=text/html:Merci pour votre inscription à notre événement. Vos billets sont joints à cet e-mail. N'oubliez pas de les amener avec vous.\n\nNous nous réjouissons de vous y voir !\n\nVoici les détails de l'événement :<br>Assemblée générale\n1 octobre 2021 à 19:00\nMaison du Peuple Renens\, salle Muraria\, Rue de Crissier 6\, 1020 Renens\, Suisse
END:VEVENT
END:VCALENDAR
