BEGIN:VCALENDAR
CALSCALE:GREGORIAN
BEGIN:VEVENT
DTSTAMP:20231024T170653Z
DTSTART:20200612T170000Z
DTEND:20200612T210000Z
SUMMARY:AG de juin
UID:6df0ec90-fab1-473a-90ad-d73c3b34160e
LOCATION:Place Chauderon 5\, 1003 Lausanne\, Suisse
DESCRIPTION:Merci de votre inscription à notre événement !\n\nNous nous réjouissons de vous y voir !\n\nAG de juin\n12 juin 2020 à 19:00\nMaison du Peuple\, Salle Jean Jaurès\, Place Chauderon 5\, 1003 Lausanne\, Suisse
X-ALT-DESC;FMTTYPE=text/html:Merci de votre inscription à notre événement !\n\nNous nous réjouissons de vous y voir !<br>AG de juin\n12 juin 2020 à 19:00\nMaison du Peuple\, Salle Jean Jaurès\, Place Chauderon 5\, 1003 Lausanne\, Suisse
END:VEVENT
END:VCALENDAR
