BEGIN:VCALENDAR
CALSCALE:GREGORIAN
BEGIN:VEVENT
DTSTAMP:20231024T170620Z
DTSTART:20200911T170000Z
DTEND:20200911T200000Z
SUMMARY:AG Septembre
UID:7470c13d-cc66-4911-9af6-18159d58c8f9
LOCATION:Place Chauderon 5\, 1003 Lausanne\, Suisse
X-ALT-DESC;FMTTYPE=text/html:
END:VEVENT
END:VCALENDAR
