BEGIN:VCALENDAR
CALSCALE:GREGORIAN
BEGIN:VEVENT
DTSTAMP:20231024T170702Z
DTSTART:20200613T150000Z
DTEND:20200613T190000Z
SUMMARY:Manifestation contre le racisme
UID:71fe09ee-3a64-406b-83c1-4ae6571f3d87
LOCATION:Place de la Riponne\, Lausanne\, Suisse
DESCRIPTION:Merci de votre inscription à notre événement !\n\nNous nous réjouissons de vous y voir !\n\nManifestation contre le racisme\n13 juin 2020 à 17:00\nPlace de la Riponne\, Place de la Riponne\, Lausanne\, Suisse
X-ALT-DESC;FMTTYPE=text/html:Merci de votre inscription à notre événement !\n\nNous nous réjouissons de vous y voir !<br>Manifestation contre le racisme\n13 juin 2020 à 17:00\nPlace de la Riponne\, Place de la Riponne\, Lausanne\, Suisse
END:VEVENT
END:VCALENDAR
