BEGIN:VCALENDAR
CALSCALE:GREGORIAN
BEGIN:VEVENT
DTSTAMP:20231024T170622Z
DTSTART:20210529T130000Z
DTEND:20210529T170000Z
SUMMARY:Manifestation contre la LMPT
UID:828ed6b4-bfb3-4b98-a739-0323aa5b8cbc
LOCATION:Place de la Riponne\, Lausanne\, Suisse
DESCRIPTION:Merci pour votre inscription à notre événement. Vos billets sont joints à cet e-mail. N'oubliez pas de les amener avec vous.\n\nNous nous réjouissons de vous y voir !\n\nVoici les détails de l'événement :\n\nManifestation contre la LMPT\n29 mai 2021 à 15:00\nLausanne\, Place de la Riponne\, Lausanne\, Suisse
X-ALT-DESC;FMTTYPE=text/html:Merci pour votre inscription à notre événement. Vos billets sont joints à cet e-mail. N'oubliez pas de les amener avec vous.\n\nNous nous réjouissons de vous y voir !\n\nVoici les détails de l'événement :<br>Manifestation contre la LMPT\n29 mai 2021 à 15:00\nLausanne\, Place de la Riponne\, Lausanne\, Suisse
END:VEVENT
END:VCALENDAR
