BEGIN:VCALENDAR
CALSCALE:GREGORIAN
BEGIN:VEVENT
DTSTAMP:20231024T170629Z
DTSTART:20200630T180000Z
DTEND:20200630T220000Z
SUMMARY:Comité cantonal du PSV
UID:8decdad0-0fe5-41a7-ab63-8915fa036bf8
LOCATION:Maison du Peuple\, Place Chauderon 5\, 1003 Lausanne\, Suisse
DESCRIPTION:Merci de votre inscription à notre événement !\n\nNous nous réjouissons de vous y voir !\n\nComité cantonal du PSV\n30 juin 2020 à 20:00\nSalle Jean-Villars Gilles\, Maison du Peuple\, Place Chauderon 5\, 1003 Lausanne\, Suisse
X-ALT-DESC;FMTTYPE=text/html:Merci de votre inscription à notre événement !\n\nNous nous réjouissons de vous y voir !<br>Comité cantonal du PSV\n30 juin 2020 à 20:00\nSalle Jean-Villars Gilles\, Maison du Peuple\, Place Chauderon 5\, 1003 Lausanne\, Suisse
END:VEVENT
END:VCALENDAR
