BEGIN:VCALENDAR
CALSCALE:GREGORIAN
BEGIN:VEVENT
DTSTAMP:20231024T170635Z
DTSTART:20200920T120000Z
DTEND:20200925T160000Z
SUMMARY:Rise Up For Change
UID:a59538fb-37db-4dd1-8299-3206eb8e81b8
LOCATION:Bundesplatz\, 3011 Bern\, Suisse
X-ALT-DESC;FMTTYPE=text/html:
END:VEVENT
END:VCALENDAR
