BEGIN:VCALENDAR
CALSCALE:GREGORIAN
BEGIN:VEVENT
DTSTAMP:20231024T170652Z
DTSTART:20201002T170000Z
DTEND:20201002T200000Z
SUMMARY:AG d'octobre
UID:a91c11be-dd0a-4928-af07-4e6d37bee837
LOCATION:Place du Château 1\, 1260 Nyon\, Suisse
X-ALT-DESC;FMTTYPE=text/html:
END:VEVENT
END:VCALENDAR
