BEGIN:VCALENDAR
CALSCALE:GREGORIAN
BEGIN:VEVENT
DTSTAMP:20231024T170649Z
DTSTART:20210409T170000Z
DTEND:20210409T210000Z
SUMMARY:AG d'avril
UID:a2910457-33a0-4ca7-b04c-53d7477691da
LOCATION:
DESCRIPTION:Merci pour votre inscription à notre événement. Vos billets sont joints à cet e-mail. N'oubliez pas de les amener avec vous.\n\nNous nous réjouissons de vous y voir !\n\nVoici les détails de l'événement :\n\nAG d'avril\n9 avril 2021 à 19:00\nAssemblée en ligne
X-ALT-DESC;FMTTYPE=text/html:Merci pour votre inscription à notre événement. Vos billets sont joints à cet e-mail. N'oubliez pas de les amener avec vous.\n\nNous nous réjouissons de vous y voir !\n\nVoici les détails de l'événement :<br>AG d'avril\n9 avril 2021 à 19:00\nAssemblée en ligne
END:VEVENT
END:VCALENDAR
