BEGIN:VCALENDAR
CALSCALE:GREGORIAN
BEGIN:VEVENT
DTSTAMP:20231024T170705Z
DTSTART:20220128T183000Z
DTEND:20220128T223000Z
SUMMARY:Débat avec les Jeunes UDC Vaud sur l'initiative pour un train de mesures en faveur des médias
UID:ae7f642a-009c-47d7-9b67-20b002d326a6
LOCATION:
DESCRIPTION:Merci pour votre inscription à notre événement. Vos billets sont joints à cet e-mail. N'oubliez pas de les amener avec vous.\n\nNous nous réjouissons de vous y voir !\n\nVoici les détails de l'événement :\n\nDébat avec les Jeunes UDC Vaud sur l'initiative pour un train de mesures en faveur des médias\n28 janvier 2022 à 19:30\nDébat en ligne
X-ALT-DESC;FMTTYPE=text/html:Merci pour votre inscription à notre événement. Vos billets sont joints à cet e-mail. N'oubliez pas de les amener avec vous.\n\nNous nous réjouissons de vous y voir !\n\nVoici les détails de l'événement :<br>Débat avec les Jeunes UDC Vaud sur l'initiative pour un train de mesures en faveur des médias\n28 janvier 2022 à 19:30\nDébat en ligne
END:VEVENT
END:VCALENDAR
