BEGIN:VCALENDAR
CALSCALE:GREGORIAN
BEGIN:VEVENT
DTSTAMP:20231024T170652Z
DTSTART:20200622T090000Z
DTEND:20200622T130000Z
SUMMARY:Référendum Stop Huile de Palme
UID:b728603b-0241-4665-9a4d-b1e765c06aa7
LOCATION:Gurtengasse 5\, 3011 Bern\, Suisse
DESCRIPTION:Merci de votre inscription à notre événement !\n\nNous nous réjouissons de vous y voir !\n\nRéférendum Stop Huile de Palme\n22 juin 2020 à 11:00\nChancellerie Fédérale\, Gurtengasse 5\, 3011 Bern\, Suisse
X-ALT-DESC;FMTTYPE=text/html:Merci de votre inscription à notre événement !\n\nNous nous réjouissons de vous y voir !<br>Référendum Stop Huile de Palme\n22 juin 2020 à 11:00\nChancellerie Fédérale\, Gurtengasse 5\, 3011 Bern\, Suisse
END:VEVENT
END:VCALENDAR
