BEGIN:VCALENDAR
CALSCALE:GREGORIAN
BEGIN:VEVENT
DTSTAMP:20231024T170637Z
DTSTART:20201203T180000Z
DTEND:20201203T193000Z
SUMMARY:Conférence élites économique et politiques suisses
UID:b9d9460e-3fb6-4b81-bc07-2fe498758edd
LOCATION:
X-ALT-DESC;FMTTYPE=text/html:
END:VEVENT
END:VCALENDAR
