BEGIN:VCALENDAR
CALSCALE:GREGORIAN
BEGIN:VEVENT
DTSTAMP:20231024T170659Z
DTSTART:20210619T100000Z
DTEND:20210619T140000Z
SUMMARY:Assemblée des délégué·e·s
UID:bcc7c291-9761-453e-88f2-7bcf15f14486
LOCATION:Wettingen\, Suisse
DESCRIPTION:Merci pour votre inscription à notre événement. Vos billets sont joints à cet e-mail. N'oubliez pas de les amener avec vous.\n\nNous nous réjouissons de vous y voir !\n\nVoici les détails de l'événement :\n\nAssemblée des délégué·e·s\n19 juin 2021 à 12:00\nWettingen\, Wettingen\, Suisse
X-ALT-DESC;FMTTYPE=text/html:Merci pour votre inscription à notre événement. Vos billets sont joints à cet e-mail. N'oubliez pas de les amener avec vous.\n\nNous nous réjouissons de vous y voir !\n\nVoici les détails de l'événement :<br>Assemblée des délégué·e·s\n19 juin 2021 à 12:00\nWettingen\, Wettingen\, Suisse
END:VEVENT
END:VCALENDAR
