BEGIN:VCALENDAR
CALSCALE:GREGORIAN
BEGIN:VEVENT
DTSTAMP:20231024T170625Z
DTSTART:20201031T110000Z
DTEND:20201031T160000Z
SUMMARY:AD JSS
UID:bea4b699-d60d-4844-b84b-edd8becfb0f0
LOCATION:Bienne\, Suisse
X-ALT-DESC;FMTTYPE=text/html:
END:VEVENT
END:VCALENDAR
