BEGIN:VCALENDAR
CALSCALE:GREGORIAN
BEGIN:VEVENT
DTSTAMP:20231024T170700Z
DTSTART:20201106T180000Z
DTEND:20201106T210000Z
SUMMARY:AG de novembre
UID:c4c478d6-e69f-4b6a-9782-71f805be98ff
LOCATION:Place Chauderon 5\, 1003 Lausanne\, Suisse
X-ALT-DESC;FMTTYPE=text/html:
END:VEVENT
END:VCALENDAR
