BEGIN:VCALENDAR
CALSCALE:GREGORIAN
BEGIN:VEVENT
DTSTAMP:20231024T170639Z
DTSTART:20210501T070000Z
DTEND:20210501T110000Z
SUMMARY:1er mai
UID:ce529a6d-d3ee-4110-96c3-a6cdabc595cc
LOCATION:Place de la Palud\, 1003 Lausanne\, Suisse
DESCRIPTION:Merci pour votre inscription à notre événement. Vos billets sont joints à cet e-mail. N'oubliez pas de les amener avec vous.\n\nNous nous réjouissons de vous y voir !\n\nVoici les détails de l'événement :\n\n1er mai\n1 mai 2021\, 09:00 – 13:00\nLausanne\, Place de la Palud\, 1003 Lausanne\, Suisse
X-ALT-DESC;FMTTYPE=text/html:Merci pour votre inscription à notre événement. Vos billets sont joints à cet e-mail. N'oubliez pas de les amener avec vous.\n\nNous nous réjouissons de vous y voir !\n\nVoici les détails de l'événement :<br>1er mai\n1 mai 2021\, 09:00 – 13:00\nLausanne\, Place de la Palud\, 1003 Lausanne\, Suisse
END:VEVENT
END:VCALENDAR
