BEGIN:VCALENDAR
CALSCALE:GREGORIAN
BEGIN:VEVENT
DTSTAMP:20231024T170635Z
DTSTART:20210614T170000Z
DTEND:20210614T210000Z
SUMMARY:Grève des femmes
UID:da77da52-2126-447f-8ea1-59ddbd653011
LOCATION:Rue de l'Industrie 10\, 1005 Lausanne\, Suisse
DESCRIPTION:Merci pour votre inscription à notre événement. Vos billets sont joints à cet e-mail. N'oubliez pas de les amener avec vous.\n\nNous nous réjouissons de vous y voir !\n\nVoici les détails de l'événement :\n\nGrève des femmes\n14 juin 2021 à 19:00\nLausanne\, Rue de l'Industrie 10\, 1005 Lausanne\, Suisse
X-ALT-DESC;FMTTYPE=text/html:Merci pour votre inscription à notre événement. Vos billets sont joints à cet e-mail. N'oubliez pas de les amener avec vous.\n\nNous nous réjouissons de vous y voir !\n\nVoici les détails de l'événement :<br>Grève des femmes\n14 juin 2021 à 19:00\nLausanne\, Rue de l'Industrie 10\, 1005 Lausanne\, Suisse
END:VEVENT
END:VCALENDAR
