BEGIN:VCALENDAR
CALSCALE:GREGORIAN
BEGIN:VEVENT
DTSTAMP:20231024T170629Z
DTSTART:20200905T100000Z
DTEND:20200905T150000Z
SUMMARY:AD JSS Bussigny
UID:dfac4d6b-6b7b-480a-a1cc-d1871f8a4dc9
LOCATION:Complexe de l'Hôtel de Ville\, Rue de Lausanne 1\, 1030 Bussigny\, Suisse
X-ALT-DESC;FMTTYPE=text/html:
END:VEVENT
END:VCALENDAR
