BEGIN:VCALENDAR
CALSCALE:GREGORIAN
BEGIN:VEVENT
DTSTAMP:20231024T170604Z
DTSTART:20210604T170000Z
DTEND:20210604T210000Z
SUMMARY:AG de juin
UID:e7da29d8-6e72-4eb9-a96a-223cdd95594c
LOCATION:Place Chauderon 5\, 1003 Lausanne\, Suisse
DESCRIPTION:Merci pour votre inscription à notre événement. Vos billets sont joints à cet e-mail. N'oubliez pas de les amener avec vous.\n\nNous nous réjouissons de vous y voir !\n\nVoici les détails de l'événement :\n\nAG de juin\n4 juin 2021 à 19:00\nLausanne\, Place Chauderon 5\, 1003 Lausanne\, Suisse
X-ALT-DESC;FMTTYPE=text/html:Merci pour votre inscription à notre événement. Vos billets sont joints à cet e-mail. N'oubliez pas de les amener avec vous.\n\nNous nous réjouissons de vous y voir !\n\nVoici les détails de l'événement :<br>AG de juin\n4 juin 2021 à 19:00\nLausanne\, Place Chauderon 5\, 1003 Lausanne\, Suisse
END:VEVENT
END:VCALENDAR
