BEGIN:VCALENDAR
CALSCALE:GREGORIAN
BEGIN:VEVENT
DTSTAMP:20231024T170638Z
DTSTART:20210624T170000Z
DTEND:20210624T210000Z
SUMMARY:Formation sur l'initiative 99% par Samuel Bendahan
UID:ead66c00-5027-4165-b63d-2c85b6ff3a1c
LOCATION:Place Chauderon 5\, 1003 Lausanne\, Suisse
DESCRIPTION:Merci pour votre inscription à notre événement. Vos billets sont joints à cet e-mail. N'oubliez pas de les amener avec vous.\n\nNous nous réjouissons de vous y voir !\n\nVoici les détails de l'événement :\n\nFormation sur l'initiative 99% par Samuel Bendahan\n24 juin 2021 à 19:00\nLausanne\, Place Chauderon 5\, 1003 Lausanne\, Suisse
X-ALT-DESC;FMTTYPE=text/html:Merci pour votre inscription à notre événement. Vos billets sont joints à cet e-mail. N'oubliez pas de les amener avec vous.\n\nNous nous réjouissons de vous y voir !\n\nVoici les détails de l'événement :<br>Formation sur l'initiative 99% par Samuel Bendahan\n24 juin 2021 à 19:00\nLausanne\, Place Chauderon 5\, 1003 Lausanne\, Suisse
END:VEVENT
END:VCALENDAR
