BEGIN:VCALENDAR
CALSCALE:GREGORIAN
BEGIN:VEVENT
DTSTAMP:20231024T170643Z
DTSTART:20200722T100000Z
DTEND:20200726T150000Z
SUMMARY:Camp latin d'été
UID:ecf2c8ca-cde7-4750-a3cf-2dbd7495e64f
LOCATION:Arolla\, 1986 Evolène\, Suisse
DESCRIPTION:Merci de votre inscription à notre événement !\n\nNous nous réjouissons de vous y voir !\n\nCamp latin d'été\n22 juillet 2020 à 12:00 – 26 juillet 2020 à 17:00\nArolla\, Arolla\, 1986 Evolène\, Suisse
X-ALT-DESC;FMTTYPE=text/html:Merci de votre inscription à notre événement !\n\nNous nous réjouissons de vous y voir !<br>Camp latin d'été\n22 juillet 2020 à 12:00 – 26 juillet 2020 à 17:00\nArolla\, Arolla\, 1986 Evolène\, Suisse
END:VEVENT
END:VCALENDAR
