BEGIN:VCALENDAR
CALSCALE:GREGORIAN
BEGIN:VEVENT
DTSTAMP:20231024T170636Z
DTSTART:20200924T173000Z
DTEND:20200924T193000Z
SUMMARY:Formation communales 1
UID:ed902e27-053d-4f42-81b5-efe5a0ef3c31
LOCATION:Place Chauderon 5\, 1003 Lausanne\, Suisse
X-ALT-DESC;FMTTYPE=text/html:
END:VEVENT
END:VCALENDAR
