BEGIN:VCALENDAR
CALSCALE:GREGORIAN
BEGIN:VEVENT
DTSTAMP:20231024T170648Z
DTSTART:20200923T060000Z
DTEND:20200923T100000Z
SUMMARY:Manif "Mariage pour tou.te.x.s"
UID:edc4cd9e-1cd8-4347-bfed-e755416340fd
LOCATION:Bärenpl.\, 3011 Bern\, Suisse
X-ALT-DESC;FMTTYPE=text/html:
END:VEVENT
END:VCALENDAR
