BEGIN:VCALENDAR
CALSCALE:GREGORIAN
BEGIN:VEVENT
DTSTAMP:20231024T170641Z
DTSTART:20200618T170000Z
DTEND:20200618T183000Z
SUMMARY:Conférence de Charles Heller
UID:f6878895-2eb1-4b6f-aec1-072cdce662d8
LOCATION:
DESCRIPTION:Merci de votre inscription à notre événement !\n\nNous nous réjouissons de vous y voir !\n\nConférence de Charles Heller\n18 juin 2020\, 19:00 – 20:30\nlien Zoom sur demande à info@jsv.ch
X-ALT-DESC;FMTTYPE=text/html:Merci de votre inscription à notre événement !\n\nNous nous réjouissons de vous y voir !<br>Conférence de Charles Heller\n18 juin 2020\, 19:00 – 20:30\nlien Zoom sur demande à info@jsv.ch
END:VEVENT
END:VCALENDAR
