BEGIN:VCALENDAR
CALSCALE:GREGORIAN
BEGIN:VEVENT
DTSTAMP:20231024T190126Z
DTSTART:20220204T180000Z
DTEND:20220204T220000Z
SUMMARY:Assemblée générale de février
UID:f236c453-f91b-46da-8c75-13cb468a8a27
LOCATION:Pl. Chauderon 5\, 1003 Lausanne\, Suisse
DESCRIPTION:Merci pour votre inscription à notre événement. Vos billets sont joints à cet e-mail. N'oubliez pas de les amener avec vous.\n\nNous nous réjouissons de vous y voir !\n\nVoici les détails de l'événement :\n\nAssemblée générale de février\n4 février 2022 à 19:00\nLausanne\, Pl. Chauderon 5\, 1003 Lausanne\, Suisse
X-ALT-DESC;FMTTYPE=text/html:Merci pour votre inscription à notre événement. Vos billets sont joints à cet e-mail. N'oubliez pas de les amener avec vous.\n\nNous nous réjouissons de vous y voir !\n\nVoici les détails de l'événement :<br>Assemblée générale de février\n4 février 2022 à 19:00\nLausanne\, Pl. Chauderon 5\, 1003 Lausanne\, Suisse
END:VEVENT
END:VCALENDAR
