BEGIN:VCALENDAR
CALSCALE:GREGORIAN
BEGIN:VEVENT
DTSTAMP:20231209T085736Z
DTSTART:20190919T130000Z
DTEND:20190919T180000Z
SUMMARY:Thursday Afternoon: Hochzeits Special N°2
UID:027b2e4b-80ab-4be7-80bb-7a4cc8910c89
LOCATION:Eingang zwischen den Magnolien
DESCRIPTION:Danke\, dass Sie sich für unsere Veranstaltung angemeldet haben!\n\nWir freuen uns\, Sie dort zu sehen!\n\nVeranstaltungsdetails im Überblick:\n\nThursday Afternoon: Hochzeits Special N°2\n19. September 2019\, 15:00–20:00 Uhr\nHahngasse 15\, 1090 Wien\, Eingang zwischen den Magnolien
X-ALT-DESC;FMTTYPE=text/html:Danke\, dass Sie sich für unsere Veranstaltung angemeldet haben!\n\nWir freuen uns\, Sie dort zu sehen!\n\nVeranstaltungsdetails im Überblick:<br>Thursday Afternoon: Hochzeits Special N°2\n19. September 2019\, 15:00–20:00 Uhr\nHahngasse 15\, 1090 Wien\, Eingang zwischen den Magnolien
END:VEVENT
END:VCALENDAR
