BEGIN:VCALENDAR
CALSCALE:GREGORIAN
BEGIN:VEVENT
DTSTAMP:20231209T085712Z
DTSTART:20191017T080000Z
DTEND:20191017T180000Z
SUMMARY:Private Grand Sale bis zu -70% (Subscribers only!)
UID:2a1338fb-896c-44f1-bcf2-648aa0d466e0
LOCATION:Eingang zwischen den Magnolien
DESCRIPTION:Danke\, dass Sie sich für unsere Veranstaltung angemeldet haben!\n\nWir freuen uns\, Sie dort zu sehen!\n\nVeranstaltungsdetails im Überblick:\n\nPrivate Grand Sale bis zu -70% (Subscribers only!)\n17. Oktober 2019\, 10:00–20:00 Uhr\nHahngasse 15\, 1090 Wien\, Eingang zwischen den Magnolien
X-ALT-DESC;FMTTYPE=text/html:Danke\, dass Sie sich für unsere Veranstaltung angemeldet haben!\n\nWir freuen uns\, Sie dort zu sehen!\n\nVeranstaltungsdetails im Überblick:<br>Private Grand Sale bis zu -70% (Subscribers only!)\n17. Oktober 2019\, 10:00–20:00 Uhr\nHahngasse 15\, 1090 Wien\, Eingang zwischen den Magnolien
END:VEVENT
END:VCALENDAR
