BEGIN:VCALENDAR
CALSCALE:GREGORIAN
BEGIN:VEVENT
DTSTAMP:20231209T085911Z
DTSTART:20210617T130000Z
DTEND:20210617T170000Z
SUMMARY:OPEN THURSDAY AFTERNOON
UID:5d4aefe4-bb15-44f0-94f4-9ecbb5cb941a
LOCATION:Hahngasse 15\, 1090 Wien\, Austria
DESCRIPTION:Danke\, dass Sie sich für unsere Veranstaltung angemeldet haben!\n\nWir freuen uns\, Sie dort zu sehen!\n\nVeranstaltungsdetails im Überblick:\n\nOPEN THURSDAY AFTERNOON\n17. Juni 2021\, 15:00–19:00 Uhr MESZ\nServitenviertel\, Hahngasse 15\, 1090 Wien\, Austria
X-ALT-DESC;FMTTYPE=text/html:Danke\, dass Sie sich für unsere Veranstaltung angemeldet haben!\n\nWir freuen uns\, Sie dort zu sehen!\n\nVeranstaltungsdetails im Überblick:<br>OPEN THURSDAY AFTERNOON\n17. Juni 2021\, 15:00–19:00 Uhr MESZ\nServitenviertel\, Hahngasse 15\, 1090 Wien\, Austria
END:VEVENT
END:VCALENDAR
