BEGIN:VCALENDAR
CALSCALE:GREGORIAN
BEGIN:VEVENT
DTSTAMP:20231209T090039Z
DTSTART:20200618T130000Z
DTEND:20200618T180000Z
SUMMARY:RE-OPENING THURSDAY AFTEROON
UID:61543f61-751d-4e9a-85f9-761ee86390df
LOCATION:Hahngasse 15\, 1090 Wien\, Austria
DESCRIPTION:Danke\, dass Sie sich für unsere Veranstaltung angemeldet haben!\n\nWir freuen uns\, Sie dort zu sehen!\n\nVeranstaltungsdetails im Überblick:\n\nRE-OPENING THURSDAY AFTEROON\n18. Juni 2020\, 15:00–20:00 Uhr\nServitenviertel\, Hahngasse 15\, 1090 Wien\, Austria
X-ALT-DESC;FMTTYPE=text/html:Danke\, dass Sie sich für unsere Veranstaltung angemeldet haben!\n\nWir freuen uns\, Sie dort zu sehen!\n\nVeranstaltungsdetails im Überblick:<br>RE-OPENING THURSDAY AFTEROON\n18. Juni 2020\, 15:00–20:00 Uhr\nServitenviertel\, Hahngasse 15\, 1090 Wien\, Austria
END:VEVENT
END:VCALENDAR
