BEGIN:VCALENDAR
CALSCALE:GREGORIAN
BEGIN:VEVENT
DTSTAMP:20231209T085923Z
DTSTART:20200213T140000Z
DTEND:20200213T190000Z
SUMMARY:Thursday Afternoon: Hochzeits Special N°6 
UID:7df9a055-a55d-482f-be10-4300521472bc
LOCATION:Hahngasse 15\, 1090 Wien
DESCRIPTION:Danke\, dass Sie sich für unsere Veranstaltung angemeldet haben!\n\nWir freuen uns\, Sie dort zu sehen!\n\nVeranstaltungsdetails im Überblick:\n\nThursday Afternoon: Hochzeits Special N°6 \n13. Februar 2020\, 15:00–20:00 Uhr\nServitenviertel\, Hahngasse 15\, 1090 Wien
X-ALT-DESC;FMTTYPE=text/html:Danke\, dass Sie sich für unsere Veranstaltung angemeldet haben!\n\nWir freuen uns\, Sie dort zu sehen!\n\nVeranstaltungsdetails im Überblick:<br>Thursday Afternoon: Hochzeits Special N°6 \n13. Februar 2020\, 15:00–20:00 Uhr\nServitenviertel\, Hahngasse 15\, 1090 Wien
END:VEVENT
END:VCALENDAR
