BEGIN:VCALENDAR
CALSCALE:GREGORIAN
BEGIN:VEVENT
DTSTAMP:20231209T085928Z
DTSTART:20191128T090000Z
DTEND:20191128T190000Z
SUMMARY:FEMME MAISON EVENING GOWNS SPECIAL
UID:80c1fb4a-28e6-4472-ad65-4f4d0244ccc6
LOCATION:Hahngasse 15\, 1090 Wien\, Austria
DESCRIPTION:Danke für die Anmeldung zu unserer Veranstaltung!\n\nWir freuen uns!\n\nVeranstaltungsdetails im Überblick:\n\nFEMME MAISON EVENING GOWNS SPECIAL\n28. November 2019\, 10:00–20:00 Uhr\nHahngasse 15\, 1090 Wien\, Austria
X-ALT-DESC;FMTTYPE=text/html:Danke für die Anmeldung zu unserer Veranstaltung!\n\nWir freuen uns!\n\nVeranstaltungsdetails im Überblick:<br>FEMME MAISON EVENING GOWNS SPECIAL\n28. November 2019\, 10:00–20:00 Uhr\nHahngasse 15\, 1090 Wien\, Austria
END:VEVENT
END:VCALENDAR
