BEGIN:VCALENDAR
CALSCALE:GREGORIAN
BEGIN:VEVENT
DTSTAMP:20231209T085951Z
DTSTART:20220616T130000Z
DTEND:20220616T170000Z
SUMMARY:OPEN THURSDAY AFTERNOON  
UID:8c7aeee5-eff2-43bb-86a3-bde3226ad94a
LOCATION:Hahngasse 15\, 1090 Wien\, Austria
DESCRIPTION:Danke\, dass Sie sich für unsere Veranstaltung angemeldet haben!\n\nWir freuen uns\, Sie dort zu sehen!\n\nVeranstaltungsdetails im Überblick:\n\nOPEN THURSDAY AFTERNOON  \n16. Juni 2022\, 15:00–19:00 Uhr MESZ\nServitenviertel\, Hahngasse 15\, 1090 Wien\, Austria
X-ALT-DESC;FMTTYPE=text/html:Danke\, dass Sie sich für unsere Veranstaltung angemeldet haben!\n\nWir freuen uns\, Sie dort zu sehen!\n\nVeranstaltungsdetails im Überblick:<br>OPEN THURSDAY AFTERNOON  \n16. Juni 2022\, 15:00–19:00 Uhr MESZ\nServitenviertel\, Hahngasse 15\, 1090 Wien\, Austria
END:VEVENT
END:VCALENDAR
