BEGIN:VCALENDAR
CALSCALE:GREGORIAN
BEGIN:VEVENT
DTSTAMP:20231209T085915Z
DTSTART:20220120T140000Z
DTEND:20220120T180000Z
SUMMARY:OPEN  THURSDAY AFTERNOON\, ohne Terminvereinbarung 
UID:95d9f32d-ff22-4378-a511-7d760e9d3b44
LOCATION:Hahngasse 15\, 1090 Wien\, Austria
DESCRIPTION:Danke für die Anmeldung zu unserer Veranstaltung!\n\nWir freuen uns!\n\nVeranstaltungsdetails im Überblick:\n\nOPEN  THURSDAY AFTERNOON\, ohne Terminvereinbarung \n20. Jänner 2022\, 15:00–19:00 Uhr MEZ\nWien\, Hahngasse 15\, 1090 Wien\, Austria
X-ALT-DESC;FMTTYPE=text/html:Danke für die Anmeldung zu unserer Veranstaltung!\n\nWir freuen uns!\n\nVeranstaltungsdetails im Überblick:<br>OPEN  THURSDAY AFTERNOON\, ohne Terminvereinbarung \n20. Jänner 2022\, 15:00–19:00 Uhr MEZ\nWien\, Hahngasse 15\, 1090 Wien\, Austria
END:VEVENT
END:VCALENDAR
