BEGIN:VCALENDAR
CALSCALE:GREGORIAN
BEGIN:VEVENT
DTSTAMP:20231209T085711Z
DTSTART:20191024T130000Z
DTEND:20191024T180000Z
SUMMARY:Thursday Afternoon: Hochzeits Special N°3 (Last of 2019)
UID:a5209648-998c-4186-9a3a-e0499eb7737c
LOCATION:Eingang zwischen den Magnolien
DESCRIPTION:Danke\, dass Sie sich für unsere Veranstaltung angemeldet haben!\n\nWir freuen uns\, Sie dort zu sehen!\n\nVeranstaltungsdetails im Überblick:\n\nThursday Afternoon: Hochzeits Special N°3 (Last of 2019)\n24. Oktober 2019\, 15:00–20:00 Uhr\nHahngasse 15\, 1090 Wien\, Eingang zwischen den Magnolien
X-ALT-DESC;FMTTYPE=text/html:Danke\, dass Sie sich für unsere Veranstaltung angemeldet haben!\n\nWir freuen uns\, Sie dort zu sehen!\n\nVeranstaltungsdetails im Überblick:<br>Thursday Afternoon: Hochzeits Special N°3 (Last of 2019)\n24. Oktober 2019\, 15:00–20:00 Uhr\nHahngasse 15\, 1090 Wien\, Eingang zwischen den Magnolien
END:VEVENT
END:VCALENDAR
