BEGIN:VCALENDAR
CALSCALE:GREGORIAN
BEGIN:VEVENT
DTSTAMP:20231209T085936Z
DTSTART:20211209T090000Z
DTEND:20211209T180000Z
SUMMARY:CHRISTMAS ARCHIVE SALE
UID:a3d001b0-00ea-4922-8764-d84e7b0eb12f
LOCATION:Hahngasse 15\, 1090 Wien\, Austria
DESCRIPTION:Danke für die Anmeldung zu unserer Veranstaltung!\n\nWir freuen uns!\n\nVeranstaltungsdetails im Überblick:\n\nCHRISTMAS ARCHIVE SALE\n9. Dezember 2021\, 10:00–19:00 Uhr MEZ\nServitenviertel Wien\, Hahngasse 15\, 1090 Wien\, Austria
X-ALT-DESC;FMTTYPE=text/html:Danke für die Anmeldung zu unserer Veranstaltung!\n\nWir freuen uns!\n\nVeranstaltungsdetails im Überblick:<br>CHRISTMAS ARCHIVE SALE\n9. Dezember 2021\, 10:00–19:00 Uhr MEZ\nServitenviertel Wien\, Hahngasse 15\, 1090 Wien\, Austria
END:VEVENT
END:VCALENDAR
