BEGIN:VCALENDAR
CALSCALE:GREGORIAN
BEGIN:VEVENT
DTSTAMP:20231209T090040Z
DTSTART:20210701T130000Z
DTEND:20210701T170000Z
SUMMARY:OPEN THURSDAY AFTERNOON 
UID:ab7a47ac-8884-4127-aa7c-ea2817820f7a
LOCATION:Hahngasse 15\, 1090 Wien\, Austria
DESCRIPTION:Danke\, dass Sie sich für unsere Veranstaltung angemeldet haben!\n\nWir freuen uns\, Sie dort zu sehen!\n\nVeranstaltungsdetails im Überblick:\n\nOPEN THURSDAY AFTERNOON \n1. Juli 2021\, 15:00–19:00 Uhr MESZ\nServitenviertel\, Hahngasse 15\, 1090 Wien\, Austria
X-ALT-DESC;FMTTYPE=text/html:Danke\, dass Sie sich für unsere Veranstaltung angemeldet haben!\n\nWir freuen uns\, Sie dort zu sehen!\n\nVeranstaltungsdetails im Überblick:<br>OPEN THURSDAY AFTERNOON \n1. Juli 2021\, 15:00–19:00 Uhr MESZ\nServitenviertel\, Hahngasse 15\, 1090 Wien\, Austria
END:VEVENT
END:VCALENDAR
