BEGIN:VCALENDAR
CALSCALE:GREGORIAN
BEGIN:VEVENT
DTSTAMP:20231209T085840Z
DTSTART:20190819T130000Z
DTEND:20190819T170000Z
SUMMARY:Thursday Afternoon: Hochzeits Special (1)
UID:c3da59c1-9fc6-499d-9a7e-d6e0908e53e1
LOCATION:Eingang zwischen den Magnolien
DESCRIPTION:Danke\, dass Sie sich für unsere Veranstaltung angemeldet haben!\n\nWir freuen uns\, Sie dort zu sehen!\n\nVeranstaltungsdetails im Überblick:\n\nThursday Afternoon: Hochzeits Special (1)\n19. August 2019\, 15:00–19:00 Uhr\nHahngasse 15\, 1090 Wien\, Eingang zwischen den Magnolien
X-ALT-DESC;FMTTYPE=text/html:Danke\, dass Sie sich für unsere Veranstaltung angemeldet haben!\n\nWir freuen uns\, Sie dort zu sehen!\n\nVeranstaltungsdetails im Überblick:<br>Thursday Afternoon: Hochzeits Special (1)\n19. August 2019\, 15:00–19:00 Uhr\nHahngasse 15\, 1090 Wien\, Eingang zwischen den Magnolien
END:VEVENT
END:VCALENDAR
