BEGIN:VCALENDAR
CALSCALE:GREGORIAN
BEGIN:VEVENT
DTSTAMP:20231209T085835Z
DTSTART:20210805T130000Z
DTEND:20210805T170000Z
SUMMARY:OPEN  THURSDAY AFTERNOON\, ohne Terminvereinbarung  
UID:e08e9ed6-a079-4c9a-a71d-cb7a385324b4
LOCATION:Hahngasse 15\, 1090 Wien\, Austria
DESCRIPTION:Danke für die Anmeldung zu unserer Veranstaltung!\n\nWir freuen uns!\n\nVeranstaltungsdetails im Überblick:\n\nOPEN  THURSDAY AFTERNOON\, ohne Terminvereinbarung  \n5. August 2021\, 15:00–19:00 Uhr MESZ\nWien\, Hahngasse 15\, 1090 Wien\, Austria
X-ALT-DESC;FMTTYPE=text/html:Danke für die Anmeldung zu unserer Veranstaltung!\n\nWir freuen uns!\n\nVeranstaltungsdetails im Überblick:<br>OPEN  THURSDAY AFTERNOON\, ohne Terminvereinbarung  \n5. August 2021\, 15:00–19:00 Uhr MESZ\nWien\, Hahngasse 15\, 1090 Wien\, Austria
END:VEVENT
END:VCALENDAR
