BEGIN:VCALENDAR
CALSCALE:GREGORIAN
BEGIN:VEVENT
DTSTAMP:20231209T085831Z
DTSTART:20210506T130000Z
DTEND:20210506T160000Z
SUMMARY:OPEN THURSDAY AFTERNOON\, ohne Terminvereinbarung   
UID:eb281b6b-f00a-445d-a4c9-59579e8044b9
LOCATION:Hahngasse 15\, 1090 Wien\, Austria
DESCRIPTION:Danke\, dass Sie sich für unsere Veranstaltung angemeldet haben!\n\nWir freuen uns\, Sie dort zu sehen!\n\nVeranstaltungsdetails im Überblick:\n\nOPEN THURSDAY AFTERNOON\, ohne Terminvereinbarung   \n6. Mai 2021\, 15:00–18:00 Uhr MESZ\nServitenviertel\, Hahngasse 15\, 1090 Wien\, Austria
X-ALT-DESC;FMTTYPE=text/html:Danke\, dass Sie sich für unsere Veranstaltung angemeldet haben!\n\nWir freuen uns\, Sie dort zu sehen!\n\nVeranstaltungsdetails im Überblick:<br>OPEN THURSDAY AFTERNOON\, ohne Terminvereinbarung   \n6. Mai 2021\, 15:00–18:00 Uhr MESZ\nServitenviertel\, Hahngasse 15\, 1090 Wien\, Austria
END:VEVENT
END:VCALENDAR
