BEGIN:VCALENDAR
CALSCALE:GREGORIAN
BEGIN:VEVENT
DTSTAMP:20231209T085747Z
DTSTART:20201116T140000Z
DTEND:20201223T190000Z
SUMMARY:FEMME MAISON Lingerie LAUNCH by appointment only!
UID:f949c00c-9cda-444f-9eea-bf012eda879f
LOCATION:Hahngasse 15\, 1090 Wien
DESCRIPTION:Danke\, dass Sie sich für unsere Veranstaltung angemeldet haben!\n\nWir freuen uns\, Sie dort zu sehen!\n\nVeranstaltungsdetails im Überblick:\n\nFEMME MAISON Lingerie LAUNCH by appointment only!\n16. November 2020 um 15:00 – 23. Dezember 2020 um 20:00\nServitenviertel\, Hahngasse 15\, 1090 Wien
X-ALT-DESC;FMTTYPE=text/html:Danke\, dass Sie sich für unsere Veranstaltung angemeldet haben!\n\nWir freuen uns\, Sie dort zu sehen!\n\nVeranstaltungsdetails im Überblick:<br>FEMME MAISON Lingerie LAUNCH by appointment only!\n16. November 2020 um 15:00 – 23. Dezember 2020 um 20:00\nServitenviertel\, Hahngasse 15\, 1090 Wien
END:VEVENT
END:VCALENDAR
