BEGIN:VCALENDAR
CALSCALE:GREGORIAN
BEGIN:VEVENT
DTSTAMP:20231209T090022Z
DTSTART:20190801T130000Z
DTEND:20190801T180000Z
SUMMARY:Thursday Afternoon: Hochzeits Special
UID:f23b1b2a-d719-420e-b1ca-15a756c105b0
LOCATION:Eingang zwischen den Magnolien
DESCRIPTION:Danke für die Anmeldung zu unserer Veranstaltung!\n\nWir freuen uns!\n\nVeranstaltungsdetails im Überblick:\n\nThursday Afternoon: Hochzeits Special\n1. August 2019\, 15:00–20:00 Uhr\nHahngasse 15\, 1090 Wien\, Eingang zwischen den Magnolien
X-ALT-DESC;FMTTYPE=text/html:Danke für die Anmeldung zu unserer Veranstaltung!\n\nWir freuen uns!\n\nVeranstaltungsdetails im Überblick:<br>Thursday Afternoon: Hochzeits Special\n1. August 2019\, 15:00–20:00 Uhr\nHahngasse 15\, 1090 Wien\, Eingang zwischen den Magnolien
END:VEVENT
END:VCALENDAR
