BEGIN:VCALENDAR
CALSCALE:GREGORIAN
BEGIN:VEVENT
DTSTAMP:20231209T085817Z
DTSTART:20200123T140000Z
DTEND:20200123T190000Z
SUMMARY:Thursday Afternoon: Hochzeits Special N°4 
UID:f2b483c2-0435-430d-b370-67ae8f5f779b
LOCATION:Eingang zwischen den Magnolien
DESCRIPTION:Danke\, dass Sie sich für unsere Veranstaltung angemeldet haben!\n\nWir freuen uns\, Sie dort zu sehen!\n\nVeranstaltungsdetails im Überblick:\n\nThursday Afternoon: Hochzeits Special N°4 \n23. Jänner 2020\, 15:00–20:00 Uhr\nHahngasse 15\, 1090 Wien\, Eingang zwischen den Magnolien
X-ALT-DESC;FMTTYPE=text/html:Danke\, dass Sie sich für unsere Veranstaltung angemeldet haben!\n\nWir freuen uns\, Sie dort zu sehen!\n\nVeranstaltungsdetails im Überblick:<br>Thursday Afternoon: Hochzeits Special N°4 \n23. Jänner 2020\, 15:00–20:00 Uhr\nHahngasse 15\, 1090 Wien\, Eingang zwischen den Magnolien
END:VEVENT
END:VCALENDAR
