BEGIN:VCALENDAR
CALSCALE:GREGORIAN
BEGIN:VEVENT
DTSTAMP:20231128T022906Z
DTSTART:20231107T230000Z
DTEND:20231108T010000Z
SUMMARY:The Design Kids
UID:974b1812-cfe6-47b3-bc14-26dc64b28e03
LOCATION:100 Gansevoort St\, New York\, NY 10014\, USA
DESCRIPTION:Thank you for registering to our event!\n\nWe're looking forward to seeing you there.\n\nHere are the event details:\n\nThe Design Kids\nNovember 7\, 2023\, 6:00 – 8:00 PM\nNew York\, 100 Gansevoort St\, New York\, NY 10014\, USA
X-ALT-DESC;FMTTYPE=text/html:Thank you for registering to our event!\n\nWe're looking forward to seeing you there.\n\nHere are the event details:<br>The Design Kids\nNovember 7\, 2023\, 6:00 – 8:00 PM\nNew York\, 100 Gansevoort St\, New York\, NY 10014\, USA
END:VEVENT
END:VCALENDAR
