BEGIN:VCALENDAR
CALSCALE:GREGORIAN
BEGIN:VEVENT
DTSTAMP:20250112T004840Z
DTSTART:20220324T013000Z
DTEND:20220324T033000Z
SUMMARY:Painting Event at Reel and Brand 
UID:05a1d549-8c37-4d88-8c8d-842a8b1cf8de
LOCATION:401 Grove St\, Sonoma\, CA 95476\, USA
DESCRIPTION:Thank you for registering to our event! Your tickets are attached to this email. Don't forget to bring them.\n\nWe're looking forward to seeing you there.\n\nHere are the details:\n\nPainting Event at Reel and Brand \nMarch 23\, 2022\, 6:30 – 8:30 PM\nReel and Brand Restaurant\, 401 Grove St\, Sonoma\, CA 95476\, USA
X-ALT-DESC;FMTTYPE=text/html:Thank you for registering to our event! Your tickets are attached to this email. Don't forget to bring them.\n\nWe're looking forward to seeing you there.\n\nHere are the details:<br>Painting Event at Reel and Brand \nMarch 23\, 2022\, 6:30 – 8:30 PM\nReel and Brand Restaurant\, 401 Grove St\, Sonoma\, CA 95476\, USA
END:VEVENT
END:VCALENDAR
