BEGIN:VCALENDAR
CALSCALE:GREGORIAN
BEGIN:VEVENT
DTSTAMP:20250112T004859Z
DTSTART:20221110T020000Z
DTEND:20221111T040000Z
SUMMARY: Holiday Truck Painting @ Sally Tomatoes 
UID:06e46e70-58cb-4e69-a990-fe71e8ea3c3a
LOCATION:1100 Valley House Dr\, Rohnert Park\, CA 94928\, USA
DESCRIPTION:Thank you for registering to our painting event! Your name is on our list\, so don't forget your name\, lol. (Remember to bring your ID if its a drinking establishment) \n\nWe're looking forward to seeing you there.\n\nHere are the details:\nHere are the details:\n\nHoliday Truck Painting @ Sally Tomatoes \nNovember 9\, 2022 at 6:00 PM – November 10\, 2022 at 8:00 PM\nSally Tomatoes in Rohnert Park\, 1100 Valley House Dr\, Rohnert Park\, CA 94928\, USA
X-ALT-DESC;FMTTYPE=text/html:Thank you for registering to our painting event! Your name is on our list\, so don't forget your name\, lol. (Remember to bring your ID if its a drinking establishment) \n\nWe're looking forward to seeing you there.\n\nHere are the details:\nHere are the details:<br>Holiday Truck Painting @ Sally Tomatoes \nNovember 9\, 2022 at 6:00 PM – November 10\, 2022 at 8:00 PM\nSally Tomatoes in Rohnert Park\, 1100 Valley House Dr\, Rohnert Park\, CA 94928\, USA
END:VEVENT
END:VCALENDAR
